BEGIN:VCALENDAR
VERSION:2.0
PRODID:-//Seegene USA - ECPv6.15.20//NONSGML v1.0//EN
CALSCALE:GREGORIAN
METHOD:PUBLISH
X-WR-CALNAME:Seegene USA
X-ORIGINAL-URL:https://seegeneus.com
X-WR-CALDESC:Events for Seegene USA
REFRESH-INTERVAL;VALUE=DURATION:PT1H
X-Robots-Tag:noindex
X-PUBLISHED-TTL:PT1H
BEGIN:VTIMEZONE
TZID:UTC
BEGIN:STANDARD
TZOFFSETFROM:+0000
TZOFFSETTO:+0000
TZNAME:UTC
DTSTART:20230101T000000
END:STANDARD
END:VTIMEZONE
BEGIN:VEVENT
DTSTART;TZID=UTC:20240223T080000
DTEND;TZID=UTC:20240224T170000
DTSTAMP:20260422T093810
CREATED:20231121T123348Z
LAST-MODIFIED:20231121T123348Z
UID:10000015-1708675200-1708794000@seegeneus.com
SUMMARY:First Coast ID/CM Symposium
DESCRIPTION:Details coming soon.
URL:https://seegeneus.com/event/first-coast-id-cm-symposium/
LOCATION:Hyatt Regency\, Jacksonville\, FL\, Hyatt Regency\, Jacksonville\, FL\, United States
CATEGORIES:Industry
END:VEVENT
END:VCALENDAR